BEGIN:VCALENDAR
VERSION:2.0
PRODID:-//ChamberMaster//Event Calendar 2.0//EN
METHOD:PUBLISH
X-PUBLISHED-TTL:P3D
REFRESH-INTERVAL:P3D
CALSCALE:GREGORIAN
BEGIN:VEVENT
DTSTART:20110329T180000Z
DTEND:20110329T200000Z
X-MICROSOFT-CDO-ALLDAYEVENT:FALSE
SUMMARY:MIRC-Social Media PM
DESCRIPTION:
X-ALT-DESC;FMTTYPE=text/html:
LOCATION:Winona Area Chamber of Commerce\, Inc.
UID:e.1434.573
SEQUENCE:3
DTSTAMP:20260424T134441Z
URL:http://business.winonachamber.com/events/details/mirc-social-media-pm-03-29-2011-573
END:VEVENT

END:VCALENDAR
