BEGIN:VCALENDAR
VERSION:2.0
PRODID:-//ChamberMaster//Event Calendar 2.0//EN
METHOD:PUBLISH
X-PUBLISHED-TTL:P3D
REFRESH-INTERVAL:P3D
CALSCALE:GREGORIAN
BEGIN:VEVENT
DTSTART:20111117T140000Z
DTEND:20111117T150000Z
X-MICROSOFT-CDO-ALLDAYEVENT:FALSE
SUMMARY:MIRC-Why Should My Business be on the Internet
DESCRIPTION:
X-ALT-DESC;FMTTYPE=text/html:
LOCATION:Winona Area Chamber of Commerce\, Inc.
UID:e.1434.604
SEQUENCE:3
DTSTAMP:20260424T001512Z
URL:http://business.winonachamber.com/events/details/mirc-why-should-my-business-be-on-the-internet-11-17-2011-604
END:VEVENT

END:VCALENDAR
