BEGIN:VCALENDAR
VERSION:2.0
PRODID:-//ChamberMaster//Event Calendar 2.0//EN
METHOD:PUBLISH
X-PUBLISHED-TTL:P3D
REFRESH-INTERVAL:P3D
CALSCALE:GREGORIAN
BEGIN:VEVENT
DTSTART:20120320T163000Z
DTEND:20120320T180000Z
X-MICROSOFT-CDO-ALLDAYEVENT:FALSE
SUMMARY:MN Chamber Legislative Update 03.2012
DESCRIPTION:Please join us for lunch to hear an update on how the business community's priorities are faring at the 2012 Legislative Session and how things might play out as it comes to a close. David Olson\, President\, Minnesota Chamber of Commerce will give an update and also seek your input as we build the business community's agenda for 2013.
X-ALT-DESC;FMTTYPE=text/html:<span style="font-size: 12pt"><span style="font-family: times new roman\, serif">Please join us for lunch to hear an update on how the business community&#39\;s priorities are faring at the 2012 Legislative Session and how things might play out as it comes to a close. David Olson\, President\, Minnesota Chamber of Commerce will give an update and also seek your input as we build the business community&#39\;s agenda for 2013.&nbsp\;&nbsp\;</span></span>
LOCATION:Winona Area Chamber of Commerce Office 902 East Second Street Suite 120
UID:e.1434.620
SEQUENCE:3
DTSTAMP:20260423T162748Z
URL:http://business.winonachamber.com/events/details/mn-chamber-legislative-update-03-2012-03-20-2012-620
END:VEVENT

END:VCALENDAR
