BEGIN:VCALENDAR
VERSION:2.0
PRODID:-//ChamberMaster//Event Calendar 2.0//EN
METHOD:PUBLISH
X-PUBLISHED-TTL:P3D
REFRESH-INTERVAL:P3D
CALSCALE:GREGORIAN
BEGIN:VEVENT
DTSTART:20090812T200000Z
DTEND:20090812T220000Z
X-MICROSOFT-CDO-ALLDAYEVENT:FALSE
SUMMARY:MN Chamber Policy Meeting 2009
DESCRIPTION:
X-ALT-DESC;FMTTYPE=text/html:
LOCATION:Holiday Inn Hotel-Rosewood 2
UID:e.1434.471
SEQUENCE:3
DTSTAMP:20260426T005246Z
URL:http://business.winonachamber.com/events/details/mn-chamber-policy-meeting-2009-08-12-2009-471
END:VEVENT

END:VCALENDAR
