BEGIN:VCALENDAR
VERSION:2.0
PRODID:-//ChamberMaster//Event Calendar 2.0//EN
METHOD:PUBLISH
X-PUBLISHED-TTL:P3D
REFRESH-INTERVAL:P3D
CALSCALE:GREGORIAN
BEGIN:VEVENT
DTSTART:20100127T180000Z
DTEND:20100127T190000Z
X-MICROSOFT-CDO-ALLDAYEVENT:FALSE
SUMMARY:MN Chamber Policy Meeting 2010
DESCRIPTION:
X-ALT-DESC;FMTTYPE=text/html:
LOCATION:Thern\, Inc.
UID:e.1434.490
SEQUENCE:3
DTSTAMP:20260425T165955Z
URL:http://business.winonachamber.com/events/details/mn-chamber-policy-meeting-2010-01-27-2010-490
END:VEVENT

END:VCALENDAR
