BEGIN:VCALENDAR
VERSION:2.0
PRODID:-//ChamberMaster//Event Calendar 2.0//EN
METHOD:PUBLISH
X-PUBLISHED-TTL:P3D
REFRESH-INTERVAL:P3D
CALSCALE:GREGORIAN
BEGIN:VEVENT
DTSTART:20101111T180000Z
DTEND:20101111T193000Z
X-MICROSOFT-CDO-ALLDAYEVENT:FALSE
SUMMARY:MN Chamber Policy Meeting Fall 2010
DESCRIPTION:
X-ALT-DESC;FMTTYPE=text/html:
LOCATION:Winona Area Chamber of Commerce\, Inc.
UID:e.1434.538
SEQUENCE:3
DTSTAMP:20260425T003636Z
URL:http://business.winonachamber.com/events/details/mn-chamber-policy-meeting-fall-2010-11-11-2010-538
END:VEVENT

END:VCALENDAR
