BEGIN:VCALENDAR
VERSION:2.0
PRODID:-//ChamberMaster//Event Calendar 2.0//EN
METHOD:PUBLISH
X-PUBLISHED-TTL:P3D
REFRESH-INTERVAL:P3D
CALSCALE:GREGORIAN
BEGIN:VEVENT
DTSTART:20111103T163000Z
DTEND:20111103T183000Z
X-MICROSOFT-CDO-ALLDAYEVENT:FALSE
SUMMARY:MN Chamber Policy Meeting Fall 2011
DESCRIPTION:
X-ALT-DESC;FMTTYPE=text/html:
LOCATION:Winona Area Chamber of Commerce\, Inc.
UID:e.1434.595
SEQUENCE:3
DTSTAMP:20260423T230220Z
URL:http://business.winonachamber.com/events/details/mn-chamber-policy-meeting-fall-2011-11-03-2011-595
END:VEVENT

END:VCALENDAR
