BEGIN:VCALENDAR
VERSION:2.0
PRODID:-//ChamberMaster//Event Calendar 2.0//EN
METHOD:PUBLISH
X-PUBLISHED-TTL:P3D
REFRESH-INTERVAL:P3D
CALSCALE:GREGORIAN
BEGIN:VEVENT
DTSTART:20120604T163000Z
DTEND:20120604T180000Z
X-MICROSOFT-CDO-ALLDAYEVENT:FALSE
SUMMARY:MN Chamber Regional Policy Update 06.2012
DESCRIPTION:Please join us for lunch and hear an update on how the business community's priorities fared at the 2012 Legislative Session.  Bill Blazar\, Vice President\, Minnesota Chamber of Commerce will give an update and also seek your input as we build the business community's agenda for 2013.
X-ALT-DESC;FMTTYPE=text/html:<span style="font-size: 12pt"><span style="font-family: times new roman\, serif">Please join us for lunch and hear an update on how the business community&#39\;s priorities fared at the 2012 Legislative Session.&nbsp\; Bill Blazar\, Vice President\, Minnesota Chamber of Commerce will give an update and also seek your input as we build the business community&#39\;s agenda for 2013.&nbsp\;&nbsp\;</span></span>
LOCATION:Winona Area Chamber of Commerce Office 902 East Second Street Suite 120
UID:e.1434.630
SEQUENCE:3
DTSTAMP:20260423T111852Z
URL:http://business.winonachamber.com/events/details/mn-chamber-regional-policy-update-06-2012-06-04-2012-630
END:VEVENT

END:VCALENDAR
