BEGIN:VCALENDAR
VERSION:2.0
PRODID:-//ChamberMaster//Event Calendar 2.0//EN
METHOD:PUBLISH
X-PUBLISHED-TTL:P3D
REFRESH-INTERVAL:P3D
CALSCALE:GREGORIAN
BEGIN:VEVENT
DTSTART:20120104T210000Z
DTEND:20120104T220000Z
X-MICROSOFT-CDO-ALLDAYEVENT:FALSE
SUMMARY:MN Department of Revenue - Tax Reform
DESCRIPTION:
X-ALT-DESC;FMTTYPE=text/html:
LOCATION:Winona Area Chamber of Commerce\, Inc.
UID:e.1434.613
SEQUENCE:3
DTSTAMP:20260423T193230Z
URL:http://business.winonachamber.com/events/details/mn-department-of-revenue-tax-reform-01-04-2012-613
END:VEVENT

END:VCALENDAR
