BEGIN:VCALENDAR
VERSION:2.0
PRODID:-//ChamberMaster//Event Calendar 2.0//EN
METHOD:PUBLISH
X-PUBLISHED-TTL:P3D
REFRESH-INTERVAL:P3D
CALSCALE:GREGORIAN
BEGIN:VEVENT
DTSTART:20090820T130000Z
DTEND:20090820T150000Z
X-MICROSOFT-CDO-ALLDAYEVENT:FALSE
SUMMARY:Mtg. w/School Superintendent-Paul Durand
DESCRIPTION:
X-ALT-DESC;FMTTYPE=text/html:
LOCATION:Winona Health Services Conference Room
UID:e.1434.469
SEQUENCE:3
DTSTAMP:20260426T005231Z
URL:http://business.winonachamber.com/events/details/mtg-w-school-superintendent-paul-durand-08-20-2009-469
END:VEVENT

END:VCALENDAR
