BEGIN:VCALENDAR
VERSION:2.0
PRODID:-//ChamberMaster//Event Calendar 2.0//EN
METHOD:PUBLISH
X-PUBLISHED-TTL:P3D
REFRESH-INTERVAL:P3D
CALSCALE:GREGORIAN
BEGIN:VEVENT
DTSTART:20100311T230000Z
DTEND:20100312T010000Z
X-MICROSOFT-CDO-ALLDAYEVENT:FALSE
SUMMARY:Network Nite 03.10 - Winona ORC\, Winona DAC\, HCO
DESCRIPTION:Sponsored by Winona ORC\, Winona DAC and Home & Community Options
X-ALT-DESC;FMTTYPE=text/html:Sponsored by Winona ORC\, Winona DAC and Home & Community Options
LOCATION:Winona ORC Industries\, Inc.
UID:e.1434.484
SEQUENCE:3
DTSTAMP:20260425T134020Z
URL:http://business.winonachamber.com/events/details/network-nite-03-10-winona-orc-winona-dac-hco-03-11-2010-484
END:VEVENT

END:VCALENDAR
