BEGIN:VCALENDAR
VERSION:2.0
PRODID:-//ChamberMaster//Event Calendar 2.0//EN
METHOD:PUBLISH
X-PUBLISHED-TTL:P3D
REFRESH-INTERVAL:P3D
CALSCALE:GREGORIAN
BEGIN:VEVENT
DTSTART:20100909T220000Z
DTEND:20100910T000000Z
X-MICROSOFT-CDO-ALLDAYEVENT:FALSE
SUMMARY:Network Nite 09.10 - Perkins
DESCRIPTION:
X-ALT-DESC;FMTTYPE=text/html:
LOCATION:Perkins Restaurant
UID:e.1434.523
SEQUENCE:3
DTSTAMP:20260425T034233Z
URL:http://business.winonachamber.com/events/details/network-nite-09-10-perkins-09-09-2010-523
END:VEVENT

END:VCALENDAR
