BEGIN:VCALENDAR
VERSION:2.0
PRODID:-//ChamberMaster//Event Calendar 2.0//EN
METHOD:PUBLISH
X-PUBLISHED-TTL:P3D
REFRESH-INTERVAL:P3D
CALSCALE:GREGORIAN
BEGIN:VEVENT
DTSTART:20101209T230000Z
DTEND:20101210T010000Z
X-MICROSOFT-CDO-ALLDAYEVENT:FALSE
SUMMARY:Network Nite 12.10 - Wells Fargo
DESCRIPTION:
X-ALT-DESC;FMTTYPE=text/html:
LOCATION:Wells Fargo - Goodview
UID:e.1434.526
SEQUENCE:3
DTSTAMP:20260424T225107Z
URL:http://business.winonachamber.com/events/details/network-nite-12-10-wells-fargo-12-09-2010-526
END:VEVENT

END:VCALENDAR
