BEGIN:VCALENDAR
VERSION:2.0
PRODID:-//ChamberMaster//Event Calendar 2.0//EN
METHOD:PUBLISH
X-PUBLISHED-TTL:P3D
REFRESH-INTERVAL:P3D
CALSCALE:GREGORIAN
BEGIN:VEVENT
DTSTART:20110210T230000Z
DTEND:20110211T010000Z
X-MICROSOFT-CDO-ALLDAYEVENT:FALSE
SUMMARY:Network Nite - Anytime Fitness
DESCRIPTION:Co-sponsors:\nBodyworks Spa & Salon\, Hy-Vee & Fantastic Sams
X-ALT-DESC;FMTTYPE=text/html:Co-sponsors:\nBodyworks Spa & Salon\, Hy-Vee & Fantastic Sams
LOCATION:Anytime Fitness
UID:e.1434.558
SEQUENCE:3
DTSTAMP:20260424T154831Z
URL:http://business.winonachamber.com/events/details/network-nite-anytime-fitness-02-10-2011-558
END:VEVENT

END:VCALENDAR
