BEGIN:VCALENDAR
VERSION:2.0
PRODID:-//ChamberMaster//Event Calendar 2.0//EN
METHOD:PUBLISH
X-PUBLISHED-TTL:P3D
REFRESH-INTERVAL:P3D
CALSCALE:GREGORIAN
BEGIN:VEVENT
DTSTART:20110310T230000Z
DTEND:20110311T010000Z
X-MICROSOFT-CDO-ALLDAYEVENT:FALSE
SUMMARY:Network Nite - HCO\, DAC & ORC
DESCRIPTION:
X-ALT-DESC;FMTTYPE=text/html:
LOCATION:Home & Community Options
UID:e.1434.565
SEQUENCE:3
DTSTAMP:20260424T134414Z
URL:http://business.winonachamber.com/events/details/network-nite-hco-dac-orc-03-10-2011-565
END:VEVENT

END:VCALENDAR
