BEGIN:VCALENDAR
VERSION:2.0
PRODID:-//ChamberMaster//Event Calendar 2.0//EN
METHOD:PUBLISH
X-PUBLISHED-TTL:P3D
REFRESH-INTERVAL:P3D
CALSCALE:GREGORIAN
BEGIN:VEVENT
DTSTART:20140109T230000Z
DTEND:20140110T010000Z
X-MICROSOFT-CDO-ALLDAYEVENT:FALSE
SUMMARY:Network Nite - Minnesota StateCollege Southeat Technical
DESCRIPTION:January Network Nite\n\n\n\nSponsored by Minnesota State College - Southeast Technical\n\n\n\nBring your business cards and come network with your fellow Chamber members!
X-ALT-DESC;FMTTYPE=text/html:<span style="font-size:14px\;">January Network Nite<br />\n<br />\nSponsored by Minnesota State College - Southeast Technical<br />\n<br />\nBring your business cards and come network with your fellow Chamber members!</span>
LOCATION:Southeast Technical College Norris P. Abts Transporation Center
UID:e.1434.2131
SEQUENCE:3
DTSTAMP:20260420T060443Z
URL:http://business.winonachamber.com/events/details/network-nite-minnesota-statecollege-southeat-technical-01-09-2014-2131
END:VEVENT

END:VCALENDAR
