BEGIN:VCALENDAR
VERSION:2.0
PRODID:-//ChamberMaster//Event Calendar 2.0//EN
METHOD:PUBLISH
X-PUBLISHED-TTL:P3D
REFRESH-INTERVAL:P3D
CALSCALE:GREGORIAN
BEGIN:VEVENT
DTSTART:20121108T230000Z
DTEND:20121109T010000Z
X-MICROSOFT-CDO-ALLDAYEVENT:FALSE
SUMMARY:Network Nite - November 8\, 2012
DESCRIPTION:Network Nite at Merchants Bank of Winona   \n\nSponsored and Hosted by Merchants Bank
X-ALT-DESC;FMTTYPE=text/html:Network Nite at Merchants Bank of Winona&nbsp\;&nbsp\;&nbsp\;<br />\nSponsored and Hosted by Merchants Bank
LOCATION:Merchants Bank of Winona - Downtown
UID:e.1434.652
SEQUENCE:3
DTSTAMP:20260423T031129Z
URL:http://business.winonachamber.com/events/details/network-nite-november-8-2012-11-08-2012-652
END:VEVENT

END:VCALENDAR
