BEGIN:VCALENDAR
VERSION:2.0
PRODID:-//ChamberMaster//Event Calendar 2.0//EN
METHOD:PUBLISH
X-PUBLISHED-TTL:P3D
REFRESH-INTERVAL:P3D
CALSCALE:GREGORIAN
BEGIN:VEVENT
DTSTART:20121016T220000Z
DTEND:20121017T000000Z
X-MICROSOFT-CDO-ALLDAYEVENT:FALSE
SUMMARY:Network Nite - October 16\, 2012
DESCRIPTION:Network Nite at Winona County History Center\n\nClosing Centennial Celebration\n\nHistoric Centennial Displays\n\n\n\nSponsored and Hosted by the Winona County History Center\n\nExhibitor Tables:\n\nUnited Way of the Greater Winona Area\n\nThe Pain & Injury Center
X-ALT-DESC;FMTTYPE=text/html:Network Nite at Winona County History Center<br />\nClosing Centennial Celebration<br />\nHistoric Centennial Displays<br />\n<br />\nSponsored and Hosted by the Winona County History Center<br />\nExhibitor Tables:<br />\nUnited Way of the Greater Winona Area<br />\nThe Pain &amp\; Injury Center
LOCATION:Winona County History Center 160 Johnson Street
UID:e.1434.651
SEQUENCE:3
DTSTAMP:20260423T043948Z
URL:http://business.winonachamber.com/events/details/network-nite-october-16-2012-10-16-2012-651
END:VEVENT

END:VCALENDAR
