BEGIN:VCALENDAR
VERSION:2.0
PRODID:-//ChamberMaster//Event Calendar 2.0//EN
METHOD:PUBLISH
X-PUBLISHED-TTL:P3D
REFRESH-INTERVAL:P3D
CALSCALE:GREGORIAN
BEGIN:VEVENT
DTSTART:20120913T220000Z
DTEND:20120914T000000Z
X-MICROSOFT-CDO-ALLDAYEVENT:FALSE
SUMMARY:Network Nite - September 13\, 2012
DESCRIPTION:Network Nite at Saint Mary's University\n\n\n\nHosted & Sponsored by Saint Mary's University\n\n\n\nExhibitors:\n\nCredit Bureau\, Inc.\n\nGreat River Chiropractic P-LLC\n\nSugar Loaf Senior Living
X-ALT-DESC;FMTTYPE=text/html:Network Nite at Saint Mary&#39\;s University<br />\n<br />\nHosted &amp\; Sponsored by Saint Mary&#39\;s University<br />\n<br />\nExhibitors:<br />\n<span style="font-size:12px\;"><span style="font-family: arial\;"><span style="color: black\;">Credit Bureau\, Inc.</span><br />\n<span style="color: black\;">Great River Chiropractic P-LLC</span><br />\n<span style="color: black\;">Sugar Loaf Senior Living</span></span></span>
LOCATION:Thursday\, September 13th\, 2012 at Saint Mary's University Toner Center 700 Terrace Heights
UID:e.1434.650
SEQUENCE:3
DTSTAMP:20260423T063029Z
URL:http://business.winonachamber.com/events/details/network-nite-september-13-2012-09-13-2012-650
END:VEVENT

END:VCALENDAR
