BEGIN:VCALENDAR
VERSION:2.0
PRODID:-//ChamberMaster//Event Calendar 2.0//EN
METHOD:PUBLISH
X-PUBLISHED-TTL:P3D
REFRESH-INTERVAL:P3D
CALSCALE:GREGORIAN
BEGIN:VEVENT
DTSTART:20140807T123000Z
DTEND:20140807T140000Z
X-MICROSOFT-CDO-ALLDAYEVENT:FALSE
SUMMARY:Newcomer's Breakfast
DESCRIPTION:Newcomer's Breakfast\n\n\n\nThe Winona Area Chamber of Commerce will be hosting a Network with the Newcomers Breakfast on Thursday August 7th from 7:30 am - 9:00 am. This is a great way for new executives to learn more about Winona and to network with local leaders.  \n\n\n\nChamber Members- $15.00\n\n\n\nSpecial Welcome to:                    \nHamid Akbari - Dean of College of Business\n\nWinona State University \n\n \n\nJeff Bartholomew - Director\n\nUnited Way of the Greater Winona Area\n\n\n\n\nDr. Dorothy Duran - President\n\nMN State College SE Technical President\n\n \n\n\n\nGreg Evans - President\n\nMerchants Bank\n\n\n\nChad Heltemes - General Manager\n\nBadger Equipment\n\n\n\nJasmine Johnson - Store Manager\n\nWells Fargo\n\n\n\nJoe Plunger - President/CEO\n\nMidwest Metal Products\n\n\n\nTarrell Portman - Dean\, College of Education\n\nWinona State University\n\n\n\nJessica Remington - Director of Health & Wellness Services\n\nWinona Health\n\n\n\nPatricia Rogers - VP of Academic Affairs\n\nWinona State University\n\n\n\nDavid Smith - Chief Human Resources Office\n\nWinona Health\n\n\n\nDavid Watson - Director of Specialty Care Clinics\n\nWinona Health\n\n\n\nDr. Stephen West- Superintendent\n\nWinona Area Public Schools    \n\n\n\n\n\nPartner\, Executive\, Premier & Visionary Chamber Members You already have a spot reserved-simply confirm you will be participating.
X-ALT-DESC;FMTTYPE=text/html:<strong>Newcomer&#39\;s Breakfast</strong><br />\n<br />\nThe Winona Area Chamber of Commerce will be hosting a Network with the Newcomers Breakfast on Thursday August 7th from 7:30 am - 9:00 am. This is a great way for new executives to learn more about Winona and to network with local leaders. &nbsp\;<br />\n<br />\nChamber Members- $15.00<br />\n<br />\nSpecial Welcome to: &nbsp\;&nbsp\;&nbsp\;&nbsp\;&nbsp\;&nbsp\;&nbsp\;&nbsp\;&nbsp\;&nbsp\;&nbsp\;&nbsp\;&nbsp\;&nbsp\;&nbsp\;&nbsp\;&nbsp\;&nbsp\;&nbsp\;\n<div _mce_style="color: #000000\; font-size: 10pt\; text-align: center\;" align="center" style="color: #000000\; font-size: 10pt\; text-align: center\;"><span>Hamid Akbari - Dean of College of Business<br />\nWinona State University </span><br />\n&nbsp\;</div>\n\n<div _mce_style="color: #000000\; font-size: 10pt\; text-align: center\;" align="center" style="color: #000000\; font-size: 10pt\; text-align: center\;">Jeff Bartholomew - Director<br />\nUnited Way of the Greater Winona Area</div>\n\n<div _mce_style="color: #000000\; font-size: 10pt\; text-align: center\;" align="center" style="color: #000000\; font-size: 10pt\; text-align: center\;">\n<div><br />\nDr. Dorothy Duran - President</div>\n\n<div>MN State College SE Technical President<br />\n&nbsp\;</div>\n</div>\n\n<div _mce_style="font-size: 10pt\; color: #000000\; text-align: center\;" align="center" style="font-size: 10pt\; color: #000000\; text-align: center\;">\n<div>Greg Evans - President<br />\nMerchants Bank<br />\n<br />\nChad Heltemes - General Manager<br />\nBadger Equipment<br />\n<br />\nJasmine Johnson - Store Manager<br />\nWells Fargo<br />\n<br />\nJoe Plunger - President/CEO<br />\nMidwest Metal Products<br />\n<br />\nTarrell Portman - Dean\, College of Education<br />\nWinona State University<br />\n<br />\nJessica Remington - Director of Health &amp\; Wellness Services<br />\nWinona Health<br />\n<br />\nPatricia Rogers - VP of Academic Affairs<br />\nWinona State University<br />\n<br />\nDavid Smith - Chief Human Resources Office<br />\nWinona Health<br />\n<br />\nDavid Watson - Director of Specialty Care Clinics<br />\nWinona Health<br />\n<br />\nDr. Stephen West- Superintendent</div>\n\n<div>Winona Area Public Schools&nbsp\;&nbsp\;&nbsp\;&nbsp\;</div>\n</div>\n<br />\n<br />\nPartner\, Executive\, Premier &amp\; Visionary Chamber Members You already have a spot reserved-simply confirm you will be participating.&nbsp\; &nbsp\;<br />\n<br />\n&nbsp\;
LOCATION:Westfield Golf Course
UID:e.1434.2197
SEQUENCE:3
DTSTAMP:20260419T171807Z
URL:http://business.winonachamber.com/events/details/newcomer-s-breakfast-08-07-2014-2197
END:VEVENT

END:VCALENDAR
