BEGIN:VCALENDAR
VERSION:2.0
PRODID:-//ChamberMaster//Event Calendar 2.0//EN
METHOD:PUBLISH
X-PUBLISHED-TTL:P3D
REFRESH-INTERVAL:P3D
CALSCALE:GREGORIAN
BEGIN:VEVENT
DTSTART:20121129T190000Z
DTEND:20121129T220000Z
X-MICROSOFT-CDO-ALLDAYEVENT:FALSE
SUMMARY:Operating Your Business in the Cloud
DESCRIPTION:Remember when a "cloud" meant "rain"? The Cloud is now changing the way we work. Let us show you how Microsoft Office 365 can increase you productivity while reducing your immediate costs.\n\n	\n\n	There are three major components of Office 365: Exchange\, SharePoint\, and Lync. These tools are used by most of the large corporations in the United States. We will show you how a smaller business can have all the advantages of these tools without the expense of installing server systems.
X-ALT-DESC;FMTTYPE=text/html:<p>\n	Remember when a &quot\;cloud&quot\; meant &quot\;rain&quot\;? The Cloud is now changing the way we work. Let us show you how Microsoft Office 365 can increase you productivity while reducing your immediate costs.<br />\n	<br />\n	There are three major components of Office 365: Exchange\, SharePoint\, and Lync. These tools are used by most of the large corporations in the United States. We will show you how a smaller business can have all the advantages of these tools without the expense of installing server systems.</p>\n
LOCATION:Winona Area Chamber of Commerce 902 East Second Street Suite 120
UID:e.1434.1189
SEQUENCE:3
DTSTAMP:20260423T031405Z
URL:http://business.winonachamber.com/events/details/operating-your-business-in-the-cloud-11-29-2012-1189
END:VEVENT

END:VCALENDAR
