BEGIN:VCALENDAR
VERSION:2.0
PRODID:-//ChamberMaster//Event Calendar 2.0//EN
METHOD:PUBLISH
X-PUBLISHED-TTL:P3D
REFRESH-INTERVAL:P3D
CALSCALE:GREGORIAN
BEGIN:VEVENT
DTSTART:20140426T140000Z
DTEND:20140426T170000Z
X-MICROSOFT-CDO-ALLDAYEVENT:FALSE
SUMMARY:Peerless Chain Open House
DESCRIPTION:The Peerless Chain Company will be hosting a public open house on Saturday\, April 26th. from 9:00 am- to noon. Guided tours of the plant will leave every 15 minutes starting at 9:00 am. The numbers on each tour will be limited to allow each guest to hear and see the company's presentations. Call Stephanie at 457-9109 to register for a tour. Peerless will have its product displays and product experts on hand to answer questions. Activities for the kids and light refreshments will be provided......
X-ALT-DESC;FMTTYPE=text/html:The Peerless Chain Company will be hosting a public open house on Saturday\, April 26th. from 9:00 am- to noon. Guided tours of the plant will leave every 15 minutes starting at 9:00 am. The numbers on each tour will be limited to allow each guest to hear and see the company&#39\;s presentations. Call Stephanie at 457-9109 to register for a tour. Peerless will have its product displays and product experts on hand to answer questions. Activities for the kids and light refreshments will be provided......
LOCATION:1416 East Sanborn St Winona\, MN 55987
UID:e.1434.2176
SEQUENCE:3
DTSTAMP:20260421T090555Z
URL:http://business.winonachamber.com/events/details/peerless-chain-open-house-04-26-2014-2176
END:VEVENT

END:VCALENDAR
