BEGIN:VCALENDAR
VERSION:2.0
PRODID:-//ChamberMaster//Event Calendar 2.0//EN
METHOD:PUBLISH
X-PUBLISHED-TTL:P3D
REFRESH-INTERVAL:P3D
CALSCALE:GREGORIAN
BEGIN:VEVENT
DTSTART:20100121T180000Z
DTEND:20100121T190000Z
X-MICROSOFT-CDO-ALLDAYEVENT:FALSE
SUMMARY:Power Lunch - MNDOT Bridge
DESCRIPTION:
X-ALT-DESC;FMTTYPE=text/html:
LOCATION:Jefferson Pub & Grill
UID:e.1434.480
SEQUENCE:3
DTSTAMP:20260425T165739Z
URL:http://business.winonachamber.com/events/details/power-lunch-mndot-bridge-01-21-2010-480
END:VEVENT

END:VCALENDAR
