BEGIN:VCALENDAR
VERSION:2.0
PRODID:-//ChamberMaster//Event Calendar 2.0//EN
METHOD:PUBLISH
X-PUBLISHED-TTL:P3D
REFRESH-INTERVAL:P3D
CALSCALE:GREGORIAN
BEGIN:VEVENT
DTSTART:20090915T130000Z
DTEND:20090915T140000Z
X-MICROSOFT-CDO-ALLDAYEVENT:FALSE
SUMMARY:Public Policy Focus Group - Drazkowski
DESCRIPTION:The Winona Area Chamber of Commerce Government Advocacy Committee will be hosting a luncheon on Tuesday\, February 28\, for members to speak with state elescted officals about business concerns.
X-ALT-DESC;FMTTYPE=text/html:The Winona Area Chamber of Commerce Government Advocacy Committee will be hosting a luncheon on Tuesday\, February 28\, for members to speak with state elescted officals about business concerns. 
LOCATION:Merchants Bank
UID:e.1434.473
SEQUENCE:3
DTSTAMP:20260425T231116Z
URL:http://business.winonachamber.com/events/details/public-policy-focus-group-drazkowski-09-15-2009-473
END:VEVENT

END:VCALENDAR
