BEGIN:VCALENDAR
VERSION:2.0
PRODID:-//ChamberMaster//Event Calendar 2.0//EN
METHOD:PUBLISH
X-PUBLISHED-TTL:P3D
REFRESH-INTERVAL:P3D
CALSCALE:GREGORIAN
BEGIN:VEVENT
DTSTART:20110218T133000Z
DTEND:20110218T150000Z
X-MICROSOFT-CDO-ALLDAYEVENT:FALSE
SUMMARY:Public Policy Legislative Call with David Olson
DESCRIPTION:
X-ALT-DESC;FMTTYPE=text/html:
LOCATION:
UID:e.1434.571
SEQUENCE:3
DTSTAMP:20260424T154120Z
URL:http://business.winonachamber.com/events/details/public-policy-legislative-call-with-david-olson-02-18-2011-571
END:VEVENT

END:VCALENDAR
