BEGIN:VCALENDAR
VERSION:2.0
PRODID:-//ChamberMaster//Event Calendar 2.0//EN
METHOD:PUBLISH
X-PUBLISHED-TTL:P3D
REFRESH-INTERVAL:P3D
CALSCALE:GREGORIAN
BEGIN:VEVENT
DTSTART:20130216T150000Z
DTEND:20130216T180000Z
X-MICROSOFT-CDO-ALLDAYEVENT:FALSE
SUMMARY:Restorative Justice Fundraiser
DESCRIPTION:Winona County Restorative Justice will be host to Dad's Belgian Waffles. This fundraiser will help provide opportunities to many youth within Winona County.  The Restorative Justice Program will use the funds raised to support various programs such as Mentoring\, Circles\, Community Group Conferencing\, Community Work Service and the Victim Empathy Class.
X-ALT-DESC;FMTTYPE=text/html:Winona County Restorative Justice will be host to Dad&#39\;s Belgian Waffles. This fundraiser will help provide opportunities to many youth within Winona County.&nbsp\;&nbsp\;The Restorative Justice Program will use the funds raised to support&nbsp\;various programs&nbsp\;such as Mentoring\, Circles\, Community Group Conferencing\, Community Work Service&nbsp\;and the Victim Empathy Class. 
LOCATION:VFW 208 E. Third Winona\, MN 55987
UID:e.1434.1196
SEQUENCE:3
DTSTAMP:20260422T220359Z
URL:http://business.winonachamber.com/events/details/restorative-justice-fundraiser-02-16-2013-1196
END:VEVENT

END:VCALENDAR
