BEGIN:VCALENDAR
VERSION:2.0
PRODID:-//ChamberMaster//Event Calendar 2.0//EN
METHOD:PUBLISH
X-PUBLISHED-TTL:P3D
REFRESH-INTERVAL:P3D
CALSCALE:GREGORIAN
BEGIN:VEVENT
DTSTART:20110203T133000Z
DTEND:20110203T060000Z
X-MICROSOFT-CDO-ALLDAYEVENT:FALSE
SUMMARY:Riverdance
DESCRIPTION:It’s been 15 years since Riverdance first stomped its way onto the world stage\, thrilling millions of peple around the globe. A celebration of Irish dance and culture\, let the magic of Riverdance enthrall you LIVE at the Mayo Civic Center on February 3 at 7:30pm. Call 866-859-7908 to make your pledge of membership support or join online\, anytime at www.ksmq.org.
X-ALT-DESC;FMTTYPE=text/html:It’s been 15 years since Riverdance first stomped its way onto the world stage\, thrilling millions of peple around the globe. A celebration of Irish dance and culture\, let the magic of Riverdance enthrall you LIVE at the Mayo Civic Center on February 3 at 7:30pm. Call 866-859-7908 to make your pledge of membership support or join online\, anytime at www.ksmq.org. \n
LOCATION:Mayo Civic Center
UID:e.1434.547
SEQUENCE:3
DTSTAMP:20260424T153915Z
URL:http://business.winonachamber.com/events/details/riverdance-02-03-2011-547
END:VEVENT

END:VCALENDAR
