BEGIN:VCALENDAR
VERSION:2.0
PRODID:-//ChamberMaster//Event Calendar 2.0//EN
METHOD:PUBLISH
X-PUBLISHED-TTL:P3D
REFRESH-INTERVAL:P3D
CALSCALE:GREGORIAN
BEGIN:VEVENT
DTSTART:20111101T170000Z
DTEND:20111101T183000Z
X-MICROSOFT-CDO-ALLDAYEVENT:FALSE
SUMMARY:Start Up Business Resource Guide Ad - 2011
DESCRIPTION:
X-ALT-DESC;FMTTYPE=text/html:
LOCATION:Winona Area Chamber of Commerce\, Inc.
UID:e.1434.610
SEQUENCE:3
DTSTAMP:20260423T225715Z
URL:http://business.winonachamber.com/events/details/start-up-business-resource-guide-ad-2011-11-01-2011-610
END:VEVENT

END:VCALENDAR
