BEGIN:VCALENDAR
VERSION:2.0
PRODID:-//ChamberMaster//Event Calendar 2.0//EN
METHOD:PUBLISH
X-PUBLISHED-TTL:P3D
REFRESH-INTERVAL:P3D
CALSCALE:GREGORIAN
BEGIN:VEVENT
DTSTART:20110610T170000Z
DTEND:20110610T180000Z
X-MICROSOFT-CDO-ALLDAYEVENT:FALSE
SUMMARY:State Budget Meeting 06.10.2011
DESCRIPTION:The Winona Area Chamber of Commerce Government Advocacy Committee will be hosting a luncheon on Tuesday\, February 28\, for members to speak with state elescted officals about business concerns.
X-ALT-DESC;FMTTYPE=text/html:The Winona Area Chamber of Commerce Government Advocacy Committee will be hosting a luncheon on Tuesday\, February 28\, for members to speak with state elescted officals about business concerns. 
LOCATION:Merchants Bank
UID:e.1434.590
SEQUENCE:3
DTSTAMP:20260424T073238Z
URL:http://business.winonachamber.com/events/details/state-budget-meeting-06-10-2011-06-10-2011-590
END:VEVENT

END:VCALENDAR
