BEGIN:VCALENDAR
VERSION:2.0
PRODID:-//ChamberMaster//Event Calendar 2.0//EN
METHOD:PUBLISH
X-PUBLISHED-TTL:P3D
REFRESH-INTERVAL:P3D
CALSCALE:GREGORIAN
BEGIN:VEVENT
DTSTART:20130803T220000Z
DTEND:20130804T030000Z
X-MICROSOFT-CDO-ALLDAYEVENT:FALSE
SUMMARY:Taste Of Winona
DESCRIPTION:Winona's favorite summer party is turning 10!\n\n	 \n\n	You won't want to miss this milestone celebration with things that you love- food\,wine\, auction items to die for\, plus music!
X-ALT-DESC;FMTTYPE=text/html:<div>\n	Winona&#39\;s favorite summer party is turning 10!</div>\n<div>\n	&nbsp\;</div>\n<div>\n	You won&#39\;t want to miss this milestone celebration with things that you love- food\,wine\, auction items to die for\, plus music!&nbsp\;</div>\n<div>\n	&nbsp\;</div>\n<div>\n	&nbsp\;</div>\n
LOCATION:Winona County History Center
UID:e.1434.2098
SEQUENCE:3
DTSTAMP:20260422T122729Z
URL:http://business.winonachamber.com/events/details/taste-of-winona-08-03-2013-2098
END:VEVENT

END:VCALENDAR
