BEGIN:VCALENDAR
VERSION:2.0
PRODID:-//ChamberMaster//Event Calendar 2.0//EN
METHOD:PUBLISH
X-PUBLISHED-TTL:P3D
REFRESH-INTERVAL:P3D
CALSCALE:GREGORIAN
BEGIN:VEVENT
DTSTART:20140809T220000Z
DTEND:20140810T020000Z
X-MICROSOFT-CDO-ALLDAYEVENT:FALSE
SUMMARY:Taste of Winona
DESCRIPTION:Celebrate local chefs\, wines and artists while raising money for youth mentoring in the community. There will be more than 100 live and silent auction items ranging from vacations to handcrafted jewelry\, plus food and wine samples from the region's very best providers. All proceeds go back to Big Brothers Big Sisters to help support the youth mentoring program in Winona.
X-ALT-DESC;FMTTYPE=text/html:Celebrate local chefs\, wines and artists while raising money for youth mentoring in the community. There will be more than 100 live and silent auction items ranging from vacations to handcrafted jewelry\, plus food and wine samples from the region&#39\;s very best providers. All proceeds go back to Big Brothers Big Sisters to help support the youth mentoring program in Winona.
LOCATION:Winona County Historical Society 160 Johnson St. Winona\, MN 55987
UID:e.1434.2198
SEQUENCE:3
DTSTAMP:20260419T172151Z
URL:http://business.winonachamber.com/events/details/taste-of-winona-08-09-2014-2198
END:VEVENT

END:VCALENDAR
