BEGIN:VCALENDAR
VERSION:2.0
PRODID:-//ChamberMaster//Event Calendar 2.0//EN
METHOD:PUBLISH
X-PUBLISHED-TTL:P3D
REFRESH-INTERVAL:P3D
CALSCALE:GREGORIAN
BEGIN:VEVENT
DTSTART:20120804T223000Z
DTEND:20120805T030000Z
X-MICROSOFT-CDO-ALLDAYEVENT:FALSE
SUMMARY:Taste of Winona and Arts Auction
DESCRIPTION:2012 marks the 9th annual Taste of Winona and Arts Auction benefiting the Big Brothers Big Sisters of the 7 Rivers Region. This fundraiser highlights local restaurants and showcases an impressive amount of silent and live auction items for attendees to bid on.
X-ALT-DESC;FMTTYPE=text/html:2012 marks the 9th annual Taste of Winona and Arts Auction benefiting the Big Brothers Big Sisters of the 7 Rivers Region. This fundraiser highlights local restaurants and showcases an impressive amount of silent and live auction items for attendees to bid on.
LOCATION:Winona County History Center 160 Johnson Street Winona\, MN 55987
UID:e.1434.643
SEQUENCE:3
DTSTAMP:20260423T093248Z
URL:http://business.winonachamber.com/events/details/taste-of-winona-and-arts-auction-08-04-2012-643
END:VEVENT

END:VCALENDAR
