BEGIN:VCALENDAR
VERSION:2.0
PRODID:-//ChamberMaster//Event Calendar 2.0//EN
METHOD:PUBLISH
X-PUBLISHED-TTL:P3D
REFRESH-INTERVAL:P3D
CALSCALE:GREGORIAN
BEGIN:VEVENT
DTSTART:20121031T210000Z
DTEND:20121101T000000Z
X-MICROSOFT-CDO-ALLDAYEVENT:FALSE
SUMMARY:Tators 4 Tots
DESCRIPTION:Help the Exchange Club of WInona fundrasier for Child Abuse Prevention by buying a loaded baked potato. Potatoes are available for dine in or carry out. Tickets can be bought for $5 at the door or in advance at The Eagle's Club\, Midtown Foods\, Severson Sinclair Gas Stations or from an Exchange Member.
X-ALT-DESC;FMTTYPE=text/html:Help the Exchange Club of WInona fundrasier for Child Abuse Prevention by buying a loaded baked potato. Potatoes are available for dine in or carry out. Tickets can be bought for $5 at the door or in advance at The Eagle&#39\;s Club\, Midtown Foods\, Severson Sinclair Gas Stations or from an Exchange Member.&nbsp\;
LOCATION:The Eagle's Club (210 East 4th Street\, Winona)
UID:e.1434.1183
SEQUENCE:3
DTSTAMP:20260423T044116Z
URL:http://business.winonachamber.com/events/details/tators-4-tots-10-31-2012-1183
END:VEVENT

END:VCALENDAR
