BEGIN:VCALENDAR
VERSION:2.0
PRODID:-//ChamberMaster//Event Calendar 2.0//EN
METHOD:PUBLISH
X-PUBLISHED-TTL:P3D
REFRESH-INTERVAL:P3D
CALSCALE:GREGORIAN
BEGIN:VEVENT
DTSTART;VALUE=DATE:20101121
DTEND;VALUE=DATE:20101124
TRANSP:TRANSPARENT
X-MICROSOFT-CDO-ALLDAYEVENT:TRUE
SUMMARY:Tonic Sol-FA
DESCRIPTION:For 10 years\, vocal quartet Tonic Sol-fa has established itself as one of the most in-demand a cappella groups in the United States. TONIC SOL-FA CHRISTMAS captures one of the band’s annual Holiday Tour concerts\, taped live at a sold-out Orchestra Hall in Minneapolis\, Minn. The spirited holiday program highlights the foursome’s trademark humor and skilled musicianship as they perform a mix of traditional\, secular and original holiday songs\, much to the audience’s delight. The concert footage isintertwined with brief interviews with group members Mark McGowan\, Greg Bannwarth\, Shaun Johnson andJared Dove. Watch Tonic Sol-Fa Christmas on KSMQ\, Sunday\, November 21 at 7:00pm and on Tuesday\, November 23 at 9:00pm.
X-ALT-DESC;FMTTYPE=text/html:For 10 years\, vocal quartet Tonic Sol-fa has established itself as one of the most in-demand a cappella groups in the United States. TONIC SOL-FA CHRISTMAS captures one of the band’s annual Holiday Tour concerts\, taped live at a sold-out Orchestra Hall in Minneapolis\, Minn. The spirited holiday program highlights the foursome’s trademark humor and skilled musicianship as they perform a mix of traditional\, secular and original holiday songs\, much to the audience’s delight. The concert footage isintertwined with brief interviews with group members Mark McGowan\, Greg Bannwarth\, Shaun Johnson andJared Dove. Watch Tonic Sol-Fa Christmas on KSMQ\, Sunday\, November 21 at 7:00pm and on Tuesday\, November 23 at 9:00pm.
LOCATION:
UID:e.1434.543
SEQUENCE:3
DTSTAMP:20260425T003846Z
URL:http://business.winonachamber.com/events/details/tonic-sol-fa-11-21-2010-543
END:VEVENT

END:VCALENDAR
