BEGIN:VCALENDAR
VERSION:2.0
PRODID:-//ChamberMaster//Event Calendar 2.0//EN
METHOD:PUBLISH
X-PUBLISHED-TTL:P3D
REFRESH-INTERVAL:P3D
CALSCALE:GREGORIAN
BEGIN:VEVENT
DTSTART:20101209T133000Z
DTEND:20101209T060000Z
X-MICROSOFT-CDO-ALLDAYEVENT:FALSE
SUMMARY:Tonic Sol-Fa
DESCRIPTION:With your pledge of membership support to KSMQ Public Television\, you can receive two tickets to Tonic Sol-Fa live in concert at the Mayo Civic Center! Think of them as The Rat Pack meets Glee at thisfabulous holiday concert with style and a touch of whimsy. Call 866-859-7908 to make your pledge ofmembership support or join online\, anytime at www.ksmq.org.
X-ALT-DESC;FMTTYPE=text/html:With your pledge of membership support to KSMQ Public Television\, you can receive two tickets to Tonic Sol-Fa live in concert at the Mayo Civic Center! Think of them as The Rat Pack meets Glee at thisfabulous holiday concert with style and a touch of whimsy. Call 866-859-7908 to make your pledge ofmembership support or join online\, anytime at www.ksmq.org. \n
LOCATION:Mayo Civic Center
UID:e.1434.546
SEQUENCE:3
DTSTAMP:20260424T224653Z
URL:http://business.winonachamber.com/events/details/tonic-sol-fa-12-09-2010-546
END:VEVENT

END:VCALENDAR
