BEGIN:VCALENDAR
VERSION:2.0
PRODID:-//ChamberMaster//Event Calendar 2.0//EN
METHOD:PUBLISH
X-PUBLISHED-TTL:P3D
REFRESH-INTERVAL:P3D
CALSCALE:GREGORIAN
BEGIN:VEVENT
DTSTART:20140517T150000Z
DTEND:20140517T190000Z
X-MICROSOFT-CDO-ALLDAYEVENT:FALSE
SUMMARY:Touch A Truck
DESCRIPTION:The purpose of this FREE event open to the public\, is to give kids of ALL ages the opportunity to explore trucks/vehicles\, pose for photos\, learn what the trucks do\, and ask the vehicle operator questions about all the different components on their trucks.  Vehicles such as construction\, emergency\, transportation\, military\, utility\, delivery will be available to experience.\n\nAlong with exploring vehicles there will be a Play Streets Event sponsored by Blue Cross and Blue Shield of Minnesota and hosted by Live Well Winona. Select downtown streets will be closed to motorized traffic to allow kids and adults to participate in activities designed to promote health and wellness through increased physical activity.  A free bike valet will be available to encourage active transportation to the event\, along with a youth bike rodeo to promote bike safety.
X-ALT-DESC;FMTTYPE=text/html:<span style="font-family:arial\,sans-serif\;"><span style="font-size:9.0pt\;">The purpose of this FREE event open to the public\, is to give kids of ALL ages the opportunity to explore trucks/vehicles\, pose for photos\, learn what the trucks do\, and ask the vehicle operator questions about all the different components on their trucks.&nbsp\; Vehicles such as construction\, emergency\, transportation\, military\, utility\, delivery will be available to experience.</span></span><br />\n<span style="font-family:arial\,sans-serif\;"><span style="font-size:9.0pt\;">Along with exploring vehicles there will be a Play Streets Event sponsored by Blue Cross and Blue Shield of Minnesota and hosted by Live Well Winona. Select downtown streets will be closed to motorized traffic to allow kids and&nbsp\;adults to participate in activities designed to promote health and wellness&nbsp\;through increased&nbsp\;physical activity.&nbsp\; A free bike valet will be available to encourage active <span style="color:#222222\;">transportation to the event\, along with a youth bike rodeo to promote bike safety.</span></span></span><br />\n&nbsp\;
LOCATION:Historic Downtown Winona
UID:e.1434.2142
SEQUENCE:3
DTSTAMP:20260419T220339Z
URL:http://business.winonachamber.com/events/details/touch-a-truck-05-17-2014-2142
END:VEVENT

END:VCALENDAR
