BEGIN:VCALENDAR
VERSION:2.0
PRODID:-//ChamberMaster//Event Calendar 2.0//EN
METHOD:PUBLISH
X-PUBLISHED-TTL:P3D
REFRESH-INTERVAL:P3D
CALSCALE:GREGORIAN
BEGIN:VEVENT
DTSTART:20141025T140000Z
DTEND:20141025T170000Z
X-MICROSOFT-CDO-ALLDAYEVENT:FALSE
SUMMARY:Trick-or-Treat Tour
DESCRIPTION:Winona National Bank's 15th Annual Trick-or-Treat Tour offers a safe place for children\, ages 2-10\, to enjoy Halloween and do trick-or-treating in costume. Volunteers\, who will be dressed up at themed stations\, will staff the event. When children arrive\, they will receive a map to guide them through the Maze of Halloween Hallways. Along the way\, they can pick-up treats and treasures. There will be a Halloween-themed "photo opp" station where adults can take photos of their children with their own camera. The event is free and open to the public!
X-ALT-DESC;FMTTYPE=text/html:Winona National Bank&rsquo\;s 15th Annual Trick-or-Treat Tour offers a safe place for children\, ages 2-10\, to enjoy Halloween and do trick-or-treating in costume. Volunteers\, who will be dressed up at themed stations\, will staff the event. When children arrive\, they will receive a map to guide them through the Maze of Halloween Hallways. Along the way\, they can pick-up treats and treasures. There will be a Halloween-themed &quot\;photo opp&quot\; station where adults can take photos of their children with their own camera. The event is free and open to the public!
LOCATION:Winona National Bank Downtown Office 204 Main Street Winona\, MN 55987
UID:e.1434.2233
SEQUENCE:3
DTSTAMP:20260419T140035Z
URL:http://business.winonachamber.com/events/details/trick-or-treat-tour-10-25-2014-2233
END:VEVENT

END:VCALENDAR
