BEGIN:VCALENDAR
VERSION:2.0
PRODID:-//ChamberMaster//Event Calendar 2.0//EN
METHOD:PUBLISH
X-PUBLISHED-TTL:P3D
REFRESH-INTERVAL:P3D
CALSCALE:GREGORIAN
BEGIN:VEVENT
DTSTART:20121019T170000Z
DTEND:20121019T180000Z
X-MICROSOFT-CDO-ALLDAYEVENT:FALSE
SUMMARY:U of M Luncheon - Role of the University of Minnesota as an Economic Engine
DESCRIPTION:The University of Minnesota: It's Statewide Value\, Its Impact\, Its Excellence\n\n \n\nThe University of Minnesota\, the state's only land-grant institution\, has a wide and deep footprint\, reaching all 87 counties\, including those in southeastern Minnesota. Alum and President Eric Kaler will discuss the University's role as an economic engine across the state\, his commitment to keeping tuition costs down\, and his vision for the U's future.\n\n \n\nRegistration Required\n\nRegister online at www.winonachamber.com\, email to info@winonachamber.com or phone 507-452-2272
X-ALT-DESC;FMTTYPE=text/html:<strong>The University of Minnesota: It&rsquo\;s Statewide Value\, Its Impact\, Its Excellence</strong><br />\n&nbsp\;<br />\nThe University of Minnesota\, the state&rsquo\;s only land-grant institution\, has a wide and deep footprint\, reaching all 87 counties\, including those in southeastern Minnesota. Alum and President Eric Kaler will discuss the University&rsquo\;s role as an economic engine across the state\, his commitment to keeping tuition costs down\, and his vision for the U&rsquo\;s future.<br />\n&nbsp\;<br />\nRegistration Required<br />\nRegister online at <a href="http://www.winonachamber.com">www.winonachamber.com</a>\, email to <a href="mailto:info@winonachamber.com">info@winonachamber.com</a> or phone 507-452-2272<br />\n&nbsp\;
LOCATION:Riverport Inn 900 Bruski Drive
UID:e.1434.1185
SEQUENCE:3
DTSTAMP:20260423T043429Z
URL:http://business.winonachamber.com/events/details/u-of-m-luncheon-role-of-the-university-of-minnesota-as-an-economic-engine-10-19-2012-1185
END:VEVENT

END:VCALENDAR
