BEGIN:VCALENDAR
VERSION:2.0
PRODID:-//ChamberMaster//Event Calendar 2.0//EN
METHOD:PUBLISH
X-PUBLISHED-TTL:P3D
REFRESH-INTERVAL:P3D
CALSCALE:GREGORIAN
BEGIN:VEVENT
DTSTART:20140821T180000Z
DTEND:20140821T200000Z
X-MICROSOFT-CDO-ALLDAYEVENT:FALSE
SUMMARY:Unemployment Insurance Session
DESCRIPTION:Unemployment Insurance Primer\n\nWhat MN Employers Need to Know\n\n\n\nExperts from the Minnesota Unemployment Insurance Program will cover: UI Law Changes\, UI Tax Rate Calculation\, Understanding UI Benefits & Eligibility Requirements\, Relief of Charges\, Quits/Discharges and more!
X-ALT-DESC;FMTTYPE=text/html:<span class="description"><span style="font-size: medium\;">Unemployment Insurance Primer<br />\nWhat MN Employers Need to Know<br />\n<br />\nExperts from the Minnesota Unemployment Insurance Program will cover: UI Law Changes\, UI Tax Rate Calculation\, Understanding UI Benefits &amp\; Eligibility Requirements\, Relief of Charges\, Quits/Discharges and more!</span></span>
LOCATION:Southeast Technical College\, Room 208\, 1250 Homer Road\, Winona\, MN
UID:e.1434.2201
SEQUENCE:3
DTSTAMP:20260419T184113Z
URL:http://business.winonachamber.com/events/details/unemployment-insurance-session-08-21-2014-2201
END:VEVENT

END:VCALENDAR
