BEGIN:VCALENDAR
VERSION:2.0
PRODID:-//ChamberMaster//Event Calendar 2.0//EN
METHOD:PUBLISH
X-PUBLISHED-TTL:P3D
REFRESH-INTERVAL:P3D
CALSCALE:GREGORIAN
BEGIN:VEVENT
DTSTART:20120308T150000Z
DTEND:20120308T160000Z
X-MICROSOFT-CDO-ALLDAYEVENT:FALSE
SUMMARY:USPS - Every Door Direct Mail
DESCRIPTION:This is a brand new inexpensive program the Postal Service has created for the small and large businesses\, non-profits\, home-based businesses and organizations using direct mail to help grow your business.\n\n\nNo Bulk Mail Permit\nNo Annual Fees\nNo Mailing Lists\n\nAnd the best thing...it's 14.5 cents a peice! How easy is that?\n\nLet us help you go from home-based to store front using Every Door Direct Mail
X-ALT-DESC;FMTTYPE=text/html:This is a brand new inexpensive program the Postal Service has created for the small and large businesses\, non-profits\, home-based businesses and organizations using direct mail to help grow your business.\n\n\nNo Bulk Mail Permit\nNo Annual Fees\nNo Mailing Lists\n\nAnd the best thing...it's 14.5 cents a peice! How easy is that?\n\nLet us help you go from home-based to store front using Every Door Direct Mail\n
LOCATION:Winona Area Chamber of Commerce\, Inc.
UID:e.1434.615
SEQUENCE:3
DTSTAMP:20260423T180118Z
URL:http://business.winonachamber.com/events/details/usps-every-door-direct-mail-03-08-2012-615
END:VEVENT

END:VCALENDAR
