BEGIN:VCALENDAR
VERSION:2.0
PRODID:-//ChamberMaster//Event Calendar 2.0//EN
METHOD:PUBLISH
X-PUBLISHED-TTL:P3D
REFRESH-INTERVAL:P3D
CALSCALE:GREGORIAN
BEGIN:VEVENT
DTSTART:20110405T223000Z
DTEND:20110405T233000Z
X-MICROSOFT-CDO-ALLDAYEVENT:FALSE
SUMMARY:Visitors Are Coming to Winona Meeting
DESCRIPTION:
X-ALT-DESC;FMTTYPE=text/html:
LOCATION:Winona Area Chamber of Commerce\, Inc.
UID:e.1434.576
SEQUENCE:3
DTSTAMP:20260424T120213Z
URL:http://business.winonachamber.com/events/details/visitors-are-coming-to-winona-meeting-04-05-2011-576
END:VEVENT

END:VCALENDAR
