BEGIN:VCALENDAR
VERSION:2.0
PRODID:-//ChamberMaster//Event Calendar 2.0//EN
METHOD:PUBLISH
X-PUBLISHED-TTL:P3D
REFRESH-INTERVAL:P3D
CALSCALE:GREGORIAN
BEGIN:VEVENT
DTSTART:20140219T173000Z
DTEND:20140219T190000Z
X-MICROSOFT-CDO-ALLDAYEVENT:FALSE
SUMMARY:Winona SharePoint Users Group
DESCRIPTION:
X-ALT-DESC;FMTTYPE=text/html:
LOCATION:Winona Area Chamber of Commerce
UID:e.1434.2147
SEQUENCE:3
DTSTAMP:20260420T025427Z
URL:http://business.winonachamber.com/events/details/winona-sharepoint-users-group-02-19-2014-2147
END:VEVENT

END:VCALENDAR
