BEGIN:VCALENDAR
VERSION:2.0
PRODID:-//ChamberMaster//Event Calendar 2.0//EN
METHOD:PUBLISH
X-PUBLISHED-TTL:P3D
REFRESH-INTERVAL:P3D
CALSCALE:GREGORIAN
BEGIN:VEVENT
DTSTART;VALUE=DATE:20110615
DTEND;VALUE=DATE:20110620
TRANSP:TRANSPARENT
X-MICROSOFT-CDO-ALLDAYEVENT:TRUE
SUMMARY:Winona Steamboat Days
DESCRIPTION:
X-ALT-DESC;FMTTYPE=text/html:
LOCATION:www.winonasteamboatdays.com
UID:e.1434.570
SEQUENCE:3
DTSTAMP:20260424T073521Z
URL:http://business.winonachamber.com/events/details/winona-steamboat-days-06-15-2011-570
END:VEVENT

END:VCALENDAR
