BEGIN:VCALENDAR
VERSION:2.0
PRODID:-//ChamberMaster//Event Calendar 2.0//EN
METHOD:PUBLISH
X-PUBLISHED-TTL:P3D
REFRESH-INTERVAL:P3D
CALSCALE:GREGORIAN
BEGIN:VEVENT
DTSTART:20140204T180500Z
DTEND:20140204T190500Z
X-MICROSOFT-CDO-ALLDAYEVENT:FALSE
SUMMARY:Winona Toastmasters Club
DESCRIPTION:Are you growing your career? Would you like to become a better public speaker\, a better listener and a better leader? Join Winona Toastmasters today! Come to a meeting and find out what it?s all about. For more information\, contact Winona Toastmasters President Janneka Sobeck at 507-439-9825
X-ALT-DESC;FMTTYPE=text/html:Are you growing your career? Would you like to become a better public speaker\, a better listener and a better leader? Join Winona Toastmasters today! Come to a meeting and find out what it?s all about. For more information\, contact Winona Toastmasters President Janneka Sobeck at 507-439-9825
LOCATION:City Hall\, Third Floor
UID:e.1434.2146
SEQUENCE:3
DTSTAMP:20260420T044024Z
URL:http://business.winonachamber.com/events/details/winona-toastmasters-club-02-04-2014-2146
END:VEVENT

END:VCALENDAR
