BEGIN:VCALENDAR
VERSION:2.0
PRODID:-//ChamberMaster//Event Calendar 2.0//EN
METHOD:PUBLISH
X-PUBLISHED-TTL:P3D
REFRESH-INTERVAL:P3D
CALSCALE:GREGORIAN
BEGIN:VEVENT
DTSTART:20140715T163000Z
DTEND:20140715T180000Z
X-MICROSOFT-CDO-ALLDAYEVENT:FALSE
SUMMARY:Workforce Summit
DESCRIPTION:Trouble filling jobs?\n\n\n\nThe Winona Area Chamber of Commerce Economic Development Committee is hosting a Workforce Summit on Tuesday\, July 15 from 11:30   1:00.  The summit is an extension of the Grow MN! visits conducted in recent months by members of the Economic Development Committee to determine how area employers\, particularly manufacturers\, rate the local availability of workforce. Specifically\, this forum will be focused on three topics:\n\n\n\n-    Can employers find the people that they need to fill open positions?\n\n-    What are the barriers\, if any\, to filling open positions?\n\n-    What can be done collaboratively to overcome identified barriers?
X-ALT-DESC;FMTTYPE=text/html:Trouble filling jobs?<br />\n<br />\nThe Winona Area Chamber of Commerce Economic Development Committee is hosting a Workforce Summit on Tuesday\, July 15 from 11:30 &ndash\; 1:00.&nbsp\; The summit is an extension of the Grow MN! visits conducted in recent months by members of the Economic Development Committee to determine how area employers\, particularly manufacturers\, rate the local availability of workforce. Specifically\, this forum will be focused on three topics:<br />\n<br />\n-&nbsp\;&nbsp\; &nbsp\;Can employers find the people that they need to fill open positions?<br />\n-&nbsp\;&nbsp\; &nbsp\;What are the barriers\, if any\, to filling open positions?<br />\n-&nbsp\;&nbsp\; &nbsp\;What can be done collaboratively to overcome identified barriers?<br />\n<br />\n<br />\n&nbsp\;
LOCATION:The meeting will be held at the Winona Chamber Conference Room. 902 East Second Street Suite 120
UID:e.1434.2191
SEQUENCE:3
DTSTAMP:20260419T183742Z
URL:http://business.winonachamber.com/events/details/workforce-summit-07-15-2014-2191
END:VEVENT

END:VCALENDAR
