BEGIN:VCALENDAR
VERSION:2.0
PRODID:-//ChamberMaster//Event Calendar 2.0//EN
METHOD:PUBLISH
X-PUBLISHED-TTL:P3D
REFRESH-INTERVAL:P3D
CALSCALE:GREGORIAN
BEGIN:VEVENT
DTSTART:20140510T133000Z
DTEND:20140510T180000Z
X-MICROSOFT-CDO-ALLDAYEVENT:FALSE
SUMMARY:Young Professional Habitat Build
DESCRIPTION:Join fellow YP's for a fun filled day of Community Outreach with this Habitat Build!
X-ALT-DESC;FMTTYPE=text/html:Join fellow YP&#39\;s for a fun filled day of Community Outreach with this Habitat Build!
LOCATION:626 Sioux Street
UID:e.1434.2182
SEQUENCE:3
DTSTAMP:20260419T220634Z
URL:http://business.winonachamber.com/events/details/young-professional-habitat-build-05-10-2014-2182
END:VEVENT

END:VCALENDAR
