BEGIN:VCALENDAR
VERSION:2.0
PRODID:-//ChamberMaster//Event Calendar 2.0//EN
METHOD:PUBLISH
X-PUBLISHED-TTL:P3D
REFRESH-INTERVAL:P3D
CALSCALE:GREGORIAN
BEGIN:VEVENT
DTSTART:20110101T230000Z
DTEND:20110102T010000Z
X-MICROSOFT-CDO-ALLDAYEVENT:FALSE
SUMMARY:Young Professionals Annual Fee 01/2012 thru 12/2012
DESCRIPTION:
X-ALT-DESC;FMTTYPE=text/html:
LOCATION:Winona Area Chamber of Commerce\, Inc.
UID:e.1434.552
SEQUENCE:3
DTSTAMP:20260424T210800Z
URL:http://business.winonachamber.com/events/details/young-professionals-annual-fee-01-2012-thru-12-2012-01-01-2011-552
END:VEVENT

END:VCALENDAR
