BEGIN:VCALENDAR
VERSION:2.0
PRODID:-//ChamberMaster//Event Calendar 2.0//EN
METHOD:PUBLISH
X-PUBLISHED-TTL:P3D
REFRESH-INTERVAL:P3D
CALSCALE:GREGORIAN
BEGIN:VEVENT
DTSTART:20110701T220000Z
DTEND:20110702T000000Z
X-MICROSOFT-CDO-ALLDAYEVENT:FALSE
SUMMARY:Young Professionals Annual Fee 07/2011 thru 06/2012
DESCRIPTION:
X-ALT-DESC;FMTTYPE=text/html:
LOCATION:Winona Area Chamber of Commerce\, Inc.
UID:e.1434.553
SEQUENCE:3
DTSTAMP:20260424T053514Z
URL:http://business.winonachamber.com/events/details/young-professionals-annual-fee-07-2011-thru-06-2012-07-01-2011-553
END:VEVENT

END:VCALENDAR
