BEGIN:VCALENDAR
VERSION:2.0
PRODID:-//ChamberMaster//Event Calendar 2.0//EN
METHOD:PUBLISH
X-PUBLISHED-TTL:P3D
REFRESH-INTERVAL:P3D
CALSCALE:GREGORIAN
BEGIN:VEVENT
DTSTART:20120531T170000Z
DTEND:20120531T180000Z
X-MICROSOFT-CDO-ALLDAYEVENT:FALSE
SUMMARY:Young Professionals - Why Vote? Luncheon Seminar
DESCRIPTION:Join Senator Jeremy Miller\, a fellow Winona Chamber Young Professional\, in a discussion about some of the social and political issues being discussed at the capitol and their effect on the Winona community. \n\n \n\nLearn more about . . . \n\n \n\n- the political process\n\n- how to become more involved in the issues that matter most to you\n\n- the value of your vote in this upcoming election\n\n- how to be a more active and informed citizen \n\nPlease Note: This is an educational event\; not a debate or political campaign event. \n\nCost: $10 does include lunch\n\n\n\nPlease RSVP to Winona Chamber at 507-452-2272 or e-mail info@winonachamber.com
X-ALT-DESC;FMTTYPE=text/html:<span style="color:#001a81\;"><span style="font-family:tahoma\,sans-serif\;"><span style="font-size:10.0pt\;">Join Senator Jeremy Miller\, a fellow Winona Chamber&nbsp\;Young Professional\, in a discussion about some of the social and political issues being discussed at the capitol and their effect on the Winona community.&nbsp\;</span></span></span><br />\n&nbsp\;<br />\n<span style="color:#001a81\;"><span style="font-family:tahoma\,sans-serif\;"><span style="font-size:10.0pt\;">Learn more about . . .&nbsp\;</span></span></span><br />\n&nbsp\;<br />\n<span style="color:#001a81\;"><span style="font-family:tahoma\,sans-serif\;"><span style="font-size:10.0pt\;">- the political process</span></span></span><br />\n<span style="color:#001a81\;"><span style="font-family:tahoma\,sans-serif\;"><span style="font-size:10.0pt\;">- how to become more involved in the issues that matter most to you</span></span></span><br />\n<span style="color:#001a81\;"><span style="font-family:tahoma\,sans-serif\;"><span style="font-size:10.0pt\;">- the value of your vote in this upcoming election</span></span></span><br />\n<span style="color:#001a81\;"><span style="font-family:tahoma\,sans-serif\;"><span style="font-size:10.0pt\;">- how to be a more active and informed citizen </span></span></span><br />\n<span style="color:#001a81\;"><span style="font-family:tahoma\,sans-serif\;"><span style="font-size:10.0pt\;">Please Note: This is an educational event\; not a debate or political campaign event.&nbsp\;</span></span></span><br />\n<span style="color:#001a81\;"><span style="font-family:tahoma\,sans-serif\;"><span style="font-size:10.0pt\;">Cost: $10 does include lunch<br />\n<br />\nPlease RSVP to Winona Chamber at 507-452-2272 or e-mail <a href="mailto:info@winonachamber.com" shape="rect" target="_blank">info@winonachamber.com</a>&nbsp\;</span></span></span>&nbsp\;<br />\n&nbsp\; 
LOCATION:Chamber of Commerce Conference Room 902 E. Second Street Suite 120
UID:e.1434.629
SEQUENCE:3
DTSTAMP:20260423T131003Z
URL:http://business.winonachamber.com/events/details/young-professionals-why-vote-luncheon-seminar-05-31-2012-629
END:VEVENT

END:VCALENDAR
