BEGIN:VCALENDAR
VERSION:2.0
PRODID:-//ChamberMaster//Event Calendar 2.0//EN
METHOD:PUBLISH
X-PUBLISHED-TTL:P3D
REFRESH-INTERVAL:P3D
CALSCALE:GREGORIAN
BEGIN:VEVENT
DTSTART:20100113T053000Z
DTEND:20100112T190000Z
X-MICROSOFT-CDO-ALLDAYEVENT:FALSE
SUMMARY:YP-2009 Tax Updates
DESCRIPTION:
X-ALT-DESC;FMTTYPE=text/html:
LOCATION:Jefferson Pub & Grill
UID:e.1434.488
SEQUENCE:3
DTSTAMP:20260425T182906Z
URL:http://business.winonachamber.com/events/details/yp-2009-tax-updates-01-12-2010-488
END:VEVENT

END:VCALENDAR
